BEGIN:VCALENDAR
VERSION:2.0
PRODID:-//Kamerunschafe - ECPv6.15.20//NONSGML v1.0//EN
CALSCALE:GREGORIAN
METHOD:PUBLISH
X-WR-CALNAME:Kamerunschafe
X-ORIGINAL-URL:https://kamerun-schafe.de
X-WR-CALDESC:Veranstaltungen für Kamerunschafe
REFRESH-INTERVAL;VALUE=DURATION:PT1H
X-Robots-Tag:noindex
X-PUBLISHED-TTL:PT1H
BEGIN:VTIMEZONE
TZID:Europe/Berlin
BEGIN:DAYLIGHT
TZOFFSETFROM:+0100
TZOFFSETTO:+0200
TZNAME:CEST
DTSTART:20240331T010000
END:DAYLIGHT
BEGIN:STANDARD
TZOFFSETFROM:+0200
TZOFFSETTO:+0100
TZNAME:CET
DTSTART:20241027T010000
END:STANDARD
BEGIN:DAYLIGHT
TZOFFSETFROM:+0100
TZOFFSETTO:+0200
TZNAME:CEST
DTSTART:20250330T010000
END:DAYLIGHT
BEGIN:STANDARD
TZOFFSETFROM:+0200
TZOFFSETTO:+0100
TZNAME:CET
DTSTART:20251026T010000
END:STANDARD
BEGIN:DAYLIGHT
TZOFFSETFROM:+0100
TZOFFSETTO:+0200
TZNAME:CEST
DTSTART:20260329T010000
END:DAYLIGHT
BEGIN:STANDARD
TZOFFSETFROM:+0200
TZOFFSETTO:+0100
TZNAME:CET
DTSTART:20261025T010000
END:STANDARD
END:VTIMEZONE
BEGIN:VEVENT
DTSTART;TZID=Europe/Berlin:20251128T090000
DTEND;TZID=Europe/Berlin:20251128T170000
DTSTAMP:20260425T003135
CREATED:20250114T163914Z
LAST-MODIFIED:20250114T163914Z
UID:13547-1764320400-1764349200@kamerun-schafe.de
SUMMARY:Lehrgang: Fruchtbarkeitsmanagement\, Trächtigkeit und Lämmerversorgung
DESCRIPTION:Der Hessische Verband für Schafzucht und -haltung e.V. bietet gemeinsam mit dem\nHessischen Ziegenzuchtverband e.V. und der Tierklinik für Reproduktionsmedizin und\nNeugeborenenkunde in Gießen verschiedene Lehrgänge an.\nDer Lehrgang gliedert sich in einen Theorieteil mit folgenden Themen\n• Anforderungen an die Fütterung während der Deckzeit\n• Fütterungsbedingte Fruchtbarkeitsstörungen\n• Krankheitsbedingte Fruchtbarkeitsstörungen\n• Trächtigkeitsdiagnose\n• Fütterung während der Trächtigkeit\n• Erkrankungen während der Trächtigkeit\n• Geburtsvorbereitung und Geburtshilfe\n• Lämmerversorgung nach der Geburt\n• Lämmerfütterung während der Aufzucht\n• Milchaustauscheraufzucht von Lämmern\nIm Praxisteil werden an Modellen das Erkennen der Lammlage geübt und Korrekturen der\nLage angewandt.\nInfos:\nTermin: 21.02.2025 und 28.11.2025 09:00 bis 17.00 Uhr\nMax Teilnehmerzahl: 30 Personen\nTeilnahmegebühr inkl. Verpflegung: 100 € (netto)\nVeranstaltungsort: Tierklinik (TKRN) Frankfurter Str. 104/106\, 35392 Gießen \nNach der Anmeldung via E-Mail an kristin.loh@schafe-hessen.de bekommen Sie eine Rechnung über die Teilnahmegebühr. \nDie Buchung wird erst nach Zahlungseingang bestätigt\, mit diesem Schreiben folgen auch Informationen zum genauen Veranstaltungsort.
URL:https://kamerun-schafe.de/event/lehrgang-fruchtbarkeitsmanagement-traechtigkeit-und-laemmerversorgung-2
CATEGORIES:Lehrgang
END:VEVENT
END:VCALENDAR