BEGIN:VCALENDAR
VERSION:2.0
PRODID:-//Kamerunschafe - ECPv6.15.20//NONSGML v1.0//EN
CALSCALE:GREGORIAN
METHOD:PUBLISH
X-WR-CALNAME:Kamerunschafe
X-ORIGINAL-URL:https://kamerun-schafe.de
X-WR-CALDESC:Veranstaltungen für Kamerunschafe
REFRESH-INTERVAL;VALUE=DURATION:PT1H
X-Robots-Tag:noindex
X-PUBLISHED-TTL:PT1H
BEGIN:VTIMEZONE
TZID:Europe/Berlin
BEGIN:DAYLIGHT
TZOFFSETFROM:+0100
TZOFFSETTO:+0200
TZNAME:CEST
DTSTART:20240331T010000
END:DAYLIGHT
BEGIN:STANDARD
TZOFFSETFROM:+0200
TZOFFSETTO:+0100
TZNAME:CET
DTSTART:20241027T010000
END:STANDARD
BEGIN:DAYLIGHT
TZOFFSETFROM:+0100
TZOFFSETTO:+0200
TZNAME:CEST
DTSTART:20250330T010000
END:DAYLIGHT
BEGIN:STANDARD
TZOFFSETFROM:+0200
TZOFFSETTO:+0100
TZNAME:CET
DTSTART:20251026T010000
END:STANDARD
BEGIN:DAYLIGHT
TZOFFSETFROM:+0100
TZOFFSETTO:+0200
TZNAME:CEST
DTSTART:20260329T010000
END:DAYLIGHT
BEGIN:STANDARD
TZOFFSETFROM:+0200
TZOFFSETTO:+0100
TZNAME:CET
DTSTART:20261025T010000
END:STANDARD
END:VTIMEZONE
BEGIN:VEVENT
DTSTART;TZID=Europe/Berlin:20250221T090000
DTEND;TZID=Europe/Berlin:20250221T170000
DTSTAMP:20260425T155607
CREATED:20250114T163530Z
LAST-MODIFIED:20250114T163530Z
UID:13543-1740128400-1740157200@kamerun-schafe.de
SUMMARY:Lehrgang: Fruchtbarkeitsmanagement\, Trächtigkeit und Lämmerversorgung
DESCRIPTION:Der Hessische Verband für Schafzucht und -haltung e.V. bietet gemeinsam mit dem\nHessischen Ziegenzuchtverband e.V. und der Tierklinik für Reproduktionsmedizin und\nNeugeborenenkunde in Gießen verschiedene Lehrgänge an.\nDer Lehrgang gliedert sich in einen Theorieteil mit folgenden Themen\n• Anforderungen an die Fütterung während der Deckzeit\n• Fütterungsbedingte Fruchtbarkeitsstörungen\n• Krankheitsbedingte Fruchtbarkeitsstörungen\n• Trächtigkeitsdiagnose\n• Fütterung während der Trächtigkeit\n• Erkrankungen während der Trächtigkeit\n• Geburtsvorbereitung und Geburtshilfe\n• Lämmerversorgung nach der Geburt\n• Lämmerfütterung während der Aufzucht\n• Milchaustauscheraufzucht von Lämmern\nIm Praxisteil werden an Modellen das Erkennen der Lammlage geübt und Korrekturen der\nLage angewandt.\nInfos:\nTermin: 21.02.2025 und 28.11.2025 09:00 bis 17.00 Uhr\nMax Teilnehmerzahl: 30 Personen\nTeilnahmegebühr inkl. Verpflegung: 100 € (netto)\nVeranstaltungsort: Tierklinik (TKRN) Frankfurter Str. 104/106\, 35392 Gießen \nNach der Anmeldung via E-Mail an kristin.loh@schafe-hessen.de bekommen Sie eine Rechnung über die Teilnahmegebühr. \nDie Buchung wird erst nach Zahlungseingang bestätigt\, mit diesem Schreiben folgen auch Informationen zum genauen Veranstaltungsort.
URL:https://kamerun-schafe.de/event/lehrgang-fruchtbarkeitsmanagement-traechtigkeit-und-laemmerversorgung
LOCATION:Tierklinik für Reproduktionsmedizin und Neugeborenkunde\, Frankfurter Straße 106\, Gießen\, 35392
CATEGORIES:Lehrgang
END:VEVENT
BEGIN:VEVENT
DTSTART;TZID=Europe/Berlin:20250226T090000
DTEND;TZID=Europe/Berlin:20250228T150000
DTSTAMP:20260425T155607
CREATED:20250117T170057Z
LAST-MODIFIED:20250117T170119Z
UID:13565-1740560400-1740754800@kamerun-schafe.de
SUMMARY:Grundlehrgang Sachkunde für Schaf- und Ziegenhalter/innen
DESCRIPTION:Termin: Mi. 26.02.2025 bis Fr. 28.02.2025 \nAnmeldeschluss: 05.02.2025 \nVeranstaltungsort: LLH Landwirtschaftszentrum Eichhof\, ALB HalleSchlossstraße 1\, 36251 Bad Hersfeld\, Hessen\, Deutschland\n \nInformation / Anmeldung: Landesbetrieb Landwirtschaft Hessen Zur Website\n \n\nVeranstaltungstermine: \n\n26. Februar 2025\, 09:00 Uhr bis 16:30 Uhr\n27. Februar 2025\, 08:00 Uhr bis 16:30 Uhr\n28. Februar 2025\, 09:00 Uhr bis 15:00 Uhr\n\nDie Ausbildungsmodule können auch einzeln gebucht werden. \nLehrgangsinhalte und weitere Infos: hier \nZielgruppe: Schaf- und Ziegenhalter/-innen \nAnmeldung: Bis 05.02.2025 beim Landesbetrieb Landwirtschaft Hessen (LLH)\, online! \nKosten: Die Lehrgangsgebühren betragen 250 €
URL:https://kamerun-schafe.de/event/grundlehrgang-sachkunde-fuer-schaf-und-ziegenhalter-innen
LOCATION:LLH Landwirtschaftszentrum Eichhof\, ALB Halle\, Schlossstraße 1\, 36251 Bad Hersfeld\, Hessen
CATEGORIES:Lehrgang
END:VEVENT
END:VCALENDAR